BEGIN:VCALENDAR
VERSION:2.0
PRODID:-//SLSMC - ECPv6.15.20//NONSGML v1.0//EN
CALSCALE:GREGORIAN
METHOD:PUBLISH
X-WR-CALNAME:SLSMC
X-ORIGINAL-URL:https://slsmc.org
X-WR-CALDESC:Events for SLSMC
REFRESH-INTERVAL;VALUE=DURATION:PT1H
X-Robots-Tag:noindex
X-PUBLISHED-TTL:PT1H
BEGIN:VTIMEZONE
TZID:America/New_York
BEGIN:DAYLIGHT
TZOFFSETFROM:-0500
TZOFFSETTO:-0400
TZNAME:EDT
DTSTART:20250309T070000
END:DAYLIGHT
BEGIN:STANDARD
TZOFFSETFROM:-0400
TZOFFSETTO:-0500
TZNAME:EST
DTSTART:20251102T060000
END:STANDARD
BEGIN:DAYLIGHT
TZOFFSETFROM:-0500
TZOFFSETTO:-0400
TZNAME:EDT
DTSTART:20260308T070000
END:DAYLIGHT
BEGIN:STANDARD
TZOFFSETFROM:-0400
TZOFFSETTO:-0500
TZNAME:EST
DTSTART:20261101T060000
END:STANDARD
BEGIN:DAYLIGHT
TZOFFSETFROM:-0500
TZOFFSETTO:-0400
TZNAME:EDT
DTSTART:20270314T070000
END:DAYLIGHT
BEGIN:STANDARD
TZOFFSETFROM:-0400
TZOFFSETTO:-0500
TZNAME:EST
DTSTART:20271107T060000
END:STANDARD
END:VTIMEZONE
BEGIN:VEVENT
DTSTART;VALUE=DATE:20260320
DTEND;VALUE=DATE:20260321
DTSTAMP:20260420T235251
CREATED:20260223T172615Z
LAST-MODIFIED:20260223T172615Z
UID:10004145-1773964800-1774051199@slsmc.org
SUMMARY:Fish Sandwich\,  Tator Tots \, Cole Slaw \, Dessert
DESCRIPTION:
URL:https://slsmc.org/event/fish-sandwich-tator-tots-cole-slaw-dessert/
CATEGORIES:Menu
END:VEVENT
BEGIN:VEVENT
DTSTART;VALUE=DATE:20260320
DTEND;VALUE=DATE:20260321
DTSTAMP:20260420T235251
CREATED:20260223T173617Z
LAST-MODIFIED:20260223T173720Z
UID:10004173-1773964800-1774051199@slsmc.org
SUMMARY:10:00 Quarter Bingo
DESCRIPTION:
URL:https://slsmc.org/event/1000-quarter-bingo-6/2026-03-20/
CATEGORIES:Activities
END:VEVENT
BEGIN:VEVENT
DTSTART;VALUE=DATE:20260320
DTEND;VALUE=DATE:20260321
DTSTAMP:20260420T235251
CREATED:20260223T174648Z
LAST-MODIFIED:20260223T174648Z
UID:10004226-1773964800-1774051199@slsmc.org
SUMMARY:12:30 *HKF Cards
DESCRIPTION:
URL:https://slsmc.org/event/1230-hkf-cards-19/2026-03-20/
CATEGORIES:Activities
END:VEVENT
BEGIN:VEVENT
DTSTART;VALUE=DATE:20260320
DTEND;VALUE=DATE:20260321
DTSTAMP:20260420T235251
CREATED:20260223T174707Z
LAST-MODIFIED:20260223T174707Z
UID:10004230-1773964800-1774051199@slsmc.org
SUMMARY:9:00 Walk w/Ease
DESCRIPTION:
URL:https://slsmc.org/event/900-walk-w-ease-3/2026-03-20/
CATEGORIES:Activities
END:VEVENT
BEGIN:VEVENT
DTSTART;VALUE=DATE:20260320
DTEND;VALUE=DATE:20260321
DTSTAMP:20260420T235251
CREATED:20260223T174818Z
LAST-MODIFIED:20260223T174818Z
UID:10004234-1773964800-1774051199@slsmc.org
SUMMARY:Tap Dancing: 10:30 Beginners 1:00 Intermediate
DESCRIPTION:
URL:https://slsmc.org/event/tap-dancing-1030-beginners-100-intermediate-10/2026-03-20/
CATEGORIES:Activities
END:VEVENT
BEGIN:VEVENT
DTSTART;VALUE=DATE:20260320
DTEND;VALUE=DATE:20260321
DTSTAMP:20260420T235251
CREATED:20260304T165148Z
LAST-MODIFIED:20260304T165148Z
UID:10004241-1773964800-1774051199@slsmc.org
SUMMARY:9:30am Exercise w/ Bev
DESCRIPTION:
URL:https://slsmc.org/event/930am-exercise-w-bev-4/2026-03-20/
CATEGORIES:Activities - Paw Paw
END:VEVENT
BEGIN:VEVENT
DTSTART;VALUE=DATE:20260320
DTEND;VALUE=DATE:20260321
DTSTAMP:20260420T235251
CREATED:20260304T170404Z
LAST-MODIFIED:20260304T170404Z
UID:10004266-1773964800-1774051199@slsmc.org
SUMMARY:10:30am Storytelling w/ David Long
DESCRIPTION:
URL:https://slsmc.org/event/1030am-storytelling-w-david-long/
CATEGORIES:Activities - Paw Paw
END:VEVENT
BEGIN:VEVENT
DTSTART;VALUE=DATE:20260320
DTEND;VALUE=DATE:20260321
DTSTAMP:20260420T235251
CREATED:20260304T170434Z
LAST-MODIFIED:20260304T170434Z
UID:10004267-1773964800-1774051199@slsmc.org
SUMMARY:CASH BINGO Doors open at 5pm
DESCRIPTION:
URL:https://slsmc.org/event/cash-bingo-doors-open-at-5pm/
CATEGORIES:Activities - Paw Paw
END:VEVENT
END:VCALENDAR