BEGIN:VCALENDAR
VERSION:2.0
PRODID:-//SLSMC - ECPv6.15.20//NONSGML v1.0//EN
CALSCALE:GREGORIAN
METHOD:PUBLISH
X-WR-CALNAME:SLSMC
X-ORIGINAL-URL:https://slsmc.org
X-WR-CALDESC:Events for SLSMC
REFRESH-INTERVAL;VALUE=DURATION:PT1H
X-Robots-Tag:noindex
X-PUBLISHED-TTL:PT1H
BEGIN:VTIMEZONE
TZID:America/New_York
BEGIN:DAYLIGHT
TZOFFSETFROM:-0500
TZOFFSETTO:-0400
TZNAME:EDT
DTSTART:20250309T070000
END:DAYLIGHT
BEGIN:STANDARD
TZOFFSETFROM:-0400
TZOFFSETTO:-0500
TZNAME:EST
DTSTART:20251102T060000
END:STANDARD
BEGIN:DAYLIGHT
TZOFFSETFROM:-0500
TZOFFSETTO:-0400
TZNAME:EDT
DTSTART:20260308T070000
END:DAYLIGHT
BEGIN:STANDARD
TZOFFSETFROM:-0400
TZOFFSETTO:-0500
TZNAME:EST
DTSTART:20261101T060000
END:STANDARD
BEGIN:DAYLIGHT
TZOFFSETFROM:-0500
TZOFFSETTO:-0400
TZNAME:EDT
DTSTART:20270314T070000
END:DAYLIGHT
BEGIN:STANDARD
TZOFFSETFROM:-0400
TZOFFSETTO:-0500
TZNAME:EST
DTSTART:20271107T060000
END:STANDARD
END:VTIMEZONE
BEGIN:VEVENT
DTSTART;VALUE=DATE:20260420
DTEND;VALUE=DATE:20260421
DTSTAMP:20260420T130615
CREATED:20260326T130231Z
LAST-MODIFIED:20260326T130231Z
UID:10004271-1776643200-1776729599@slsmc.org
SUMMARY:Spaghetti \,Garlic Bread \,Green Beans\, Peaches
DESCRIPTION:
URL:https://slsmc.org/event/spaghetti-garlic-bread-green-beans-peaches-4/
CATEGORIES:Menu
END:VEVENT
BEGIN:VEVENT
DTSTART;VALUE=DATE:20260420
DTEND;VALUE=DATE:20260421
DTSTAMP:20260420T130615
CREATED:20260326T135220Z
LAST-MODIFIED:20260326T135220Z
UID:10004293-1776643200-1776729599@slsmc.org
SUMMARY:8:45 Stretching
DESCRIPTION:
URL:https://slsmc.org/event/845-stretching-9/2026-04-20/
CATEGORIES:Activities
END:VEVENT
BEGIN:VEVENT
DTSTART;VALUE=DATE:20260420
DTEND;VALUE=DATE:20260421
DTSTAMP:20260420T130615
CREATED:20260326T135307Z
LAST-MODIFIED:20260326T135307Z
UID:10004300-1776643200-1776729599@slsmc.org
SUMMARY:9:30 Drumball
DESCRIPTION:
URL:https://slsmc.org/event/930-drumball-30/2026-04-20/
CATEGORIES:Activities
END:VEVENT
BEGIN:VEVENT
DTSTART;VALUE=DATE:20260420
DTEND;VALUE=DATE:20260421
DTSTAMP:20260420T130615
CREATED:20260326T135351Z
LAST-MODIFIED:20260326T135351Z
UID:10004306-1776643200-1776729599@slsmc.org
SUMMARY:10:00 Craft Day
DESCRIPTION:
URL:https://slsmc.org/event/1000-craft-day-19/2026-04-20/
CATEGORIES:Activities
END:VEVENT
BEGIN:VEVENT
DTSTART;VALUE=DATE:20260420
DTEND;VALUE=DATE:20260421
DTSTAMP:20260420T130615
CREATED:20260326T142322Z
LAST-MODIFIED:20260326T142322Z
UID:10004386-1776643200-1776729599@slsmc.org
SUMMARY:9:30 Coffee & Cardio
DESCRIPTION:
URL:https://slsmc.org/event/930-coffee-cardio/2026-04-20/
CATEGORIES:Activities - Paw Paw
END:VEVENT
BEGIN:VEVENT
DTSTART;VALUE=DATE:20260420
DTEND;VALUE=DATE:20260421
DTSTAMP:20260420T130615
CREATED:20260326T142557Z
LAST-MODIFIED:20260326T142557Z
UID:10004390-1776643200-1776729599@slsmc.org
SUMMARY:10:30 Scrapbooking
DESCRIPTION:
URL:https://slsmc.org/event/1030-scrapbooking-5/
CATEGORIES:Activities - Paw Paw
END:VEVENT
END:VCALENDAR